BEGIN:VCALENDAR
VERSION:2.0
PRODID:-//Pictures London//Cinema Listings//EN
CALSCALE:GREGORIAN
METHOD:PUBLISH
X-WR-CALNAME:Pictures London Cinema
BEGIN:VEVENT
UID:ed42fe93-364d-403f-9455-02f6649b02ad@pictures.london
DTSTART:20260423T194500Z
DTEND:20260423T213000Z
SUMMARY:One False Move (1991) at The Nickel
DESCRIPTION:One False Move (1991)\nat The Nickel\nFormat: DIGITAL\nBook: https://book.thenickel.co.uk/screening/308\nvia Pictures (pictures.london)
LOCATION:The Nickel\, 194 Upper Street\, Islington\, N1 1RQ
URL:https://book.thenickel.co.uk/screening/308
STATUS:CONFIRMED
END:VEVENT
END:VCALENDAR