BEGIN:VCALENDAR
VERSION:2.0
PRODID:-//Pictures London//Cinema Listings//EN
CALSCALE:GREGORIAN
METHOD:PUBLISH
X-WR-CALNAME:Pictures London Cinema
BEGIN:VEVENT
UID:ed3b5079-b5dc-4f0a-9989-31edd0589f79@pictures.london
DTSTART:20260424T123000Z
DTEND:20260424T124000Z
SUMMARY:Primavera (1998) at Olympic Studios
DESCRIPTION:Primavera (1998)\nat Olympic Studios\nBook: https://web1.empire.mycloudcinema.com/#/book/55067\nvia Pictures (pictures.london)
LOCATION:Olympic Studios\, 117-123 Church Road\, Barnes\, SW13 9HL
URL:https://web1.empire.mycloudcinema.com/#/book/55067
STATUS:CONFIRMED
END:VEVENT
END:VCALENDAR