BEGIN:VCALENDAR
VERSION:2.0
PRODID:-//Pictures London//Cinema Listings//EN
CALSCALE:GREGORIAN
METHOD:PUBLISH
X-WR-CALNAME:Pictures London Cinema
BEGIN:VEVENT
UID:ed240aaa-2221-4b92-97de-24071d3c0f3d@pictures.london
DTSTART:20260426T210000Z
DTEND:20260426T225700Z
SUMMARY:300 (2007) at Everyman Borough Yards
DESCRIPTION:300 (2007)\nat Everyman Borough Yards\nBook: https://purchase.everymancinema.com/launch/ticketing/b80d3b10-69d7-591d-922d-92b23357c124\nvia Pictures (pictures.london)
LOCATION:Everyman Borough Yards\, Borough Yards\, Borough\, SE1 9PH
URL:https://purchase.everymancinema.com/launch/ticketing/b80d3b10-69d7-591d-922d-92b23357c124
STATUS:CONFIRMED
END:VEVENT
END:VCALENDAR