BEGIN:VCALENDAR
VERSION:2.0
PRODID:-//Pictures London//Cinema Listings//EN
CALSCALE:GREGORIAN
METHOD:PUBLISH
X-WR-CALNAME:Pictures London Cinema
BEGIN:VEVENT
UID:ec9616c6-59b4-472e-a2f1-8da103c462f4@pictures.london
DTSTART:20260425T120000Z
DTEND:20260425T141000Z
SUMMARY:The Perfect Storm (2000) at BFI Southbank
DESCRIPTION:The Perfect Storm (2000)\nat BFI Southbank\nEvent: intro\nBook: https://whatson.bfi.org.uk/Online/default.asp?doWork::WScontent::loadArticle=Load&BOparam::WScontent::loadArticle::article_id=16105C86-2985-4C88-8BF2-727D95D949E8&BOparam::WScontent::loadArticle::context_id=06B354CC-DDFF-4BD2-B0A2-F4E4A5235A44\nvia Pictures (pictures.london)
LOCATION:BFI Southbank\, Belvedere Road\, South Bank\, SE1 8XT
URL:https://whatson.bfi.org.uk/Online/default.asp?doWork::WScontent::loadArticle=Load&BOparam::WScontent::loadArticle::article_id=16105C86-2985-4C88-8BF2-727D95D949E8&BOparam::WScontent::loadArticle::context_id=06B354CC-DDFF-4BD2-B0A2-F4E4A5235A44
STATUS:CONFIRMED
END:VEVENT
END:VCALENDAR