BEGIN:VCALENDAR
VERSION:2.0
PRODID:-//Pictures London//Cinema Listings//EN
CALSCALE:GREGORIAN
METHOD:PUBLISH
X-WR-CALNAME:Pictures London Cinema
BEGIN:VEVENT
UID:ec2b0b1d-fc24-4582-a524-d25c7b4ca1a8@pictures.london
DTSTART:20260501T114500Z
DTEND:20260501T134400Z
SUMMARY:The Devil Wears Prada 2 (2026) at Curzon Victoria
DESCRIPTION:The Devil Wears Prada 2 (2026)\nat Curzon Victoria\nBook: https://www.curzon.com/films/the-devil-wears-prada-2/HO00006909/\nvia Pictures (pictures.london)
LOCATION:Curzon Victoria\, 58 Victoria Street\, Victoria\, SW1E 5JA
URL:https://www.curzon.com/films/the-devil-wears-prada-2/HO00006909/
STATUS:CONFIRMED
END:VEVENT
END:VCALENDAR