BEGIN:VCALENDAR
VERSION:2.0
PRODID:-//Pictures London//Cinema Listings//EN
CALSCALE:GREGORIAN
METHOD:PUBLISH
X-WR-CALNAME:Pictures London Cinema
BEGIN:VEVENT
UID:eba483fc-e611-4041-a925-dffc458a8d6b@pictures.london
DTSTART:20260421T173000Z
DTEND:20260421T200700Z
SUMMARY:Project Hail Mary (2026) at Everyman Muswell Hill
DESCRIPTION:Project Hail Mary (2026)\nat Everyman Muswell Hill\nBook: https://purchase.everymancinema.com/launch/ticketing/60936959-d6cd-5dce-aa4d-fc6acf0748c5\nvia Pictures (pictures.london)
LOCATION:Everyman Muswell Hill\, Fortis Green Road\, Muswell Hill\, N10 3TD
URL:https://purchase.everymancinema.com/launch/ticketing/60936959-d6cd-5dce-aa4d-fc6acf0748c5
STATUS:CONFIRMED
END:VEVENT
END:VCALENDAR