BEGIN:VCALENDAR
VERSION:2.0
PRODID:-//Pictures London//Cinema Listings//EN
CALSCALE:GREGORIAN
METHOD:PUBLISH
X-WR-CALNAME:Pictures London Cinema
BEGIN:VEVENT
UID:eafa19ff-64a6-4c49-a65e-ddef9b67153c@pictures.london
DTSTART:20260423T193000Z
DTEND:20260423T210400Z
SUMMARY:High Anxiety (1977) at Castle Cinema
DESCRIPTION:High Anxiety (1977)\nat Castle Cinema\nBook: https://thecastlecinema.com/bookings/16374/\nvia Pictures (pictures.london)
LOCATION:Castle Cinema\, 64-66 Brooksby's Walk\, Hackney\, E9 6DA
URL:https://thecastlecinema.com/bookings/16374/
STATUS:CONFIRMED
END:VEVENT
END:VCALENDAR