BEGIN:VCALENDAR
VERSION:2.0
PRODID:-//Pictures London//Cinema Listings//EN
CALSCALE:GREGORIAN
METHOD:PUBLISH
X-WR-CALNAME:Pictures London Cinema
BEGIN:VEVENT
UID:eae96bb0-5e70-4cf1-b720-0c3d80e1a166@pictures.london
DTSTART:20260424T201500Z
DTEND:20260424T215400Z
SUMMARY:Alphaville (1965) at Close-Up Cinema
DESCRIPTION:Alphaville (1965)\nat Close-Up Cinema\nBook: https://www.ticketsource.co.uk/close-up-cinema/e-bgeazl\nvia Pictures (pictures.london)
LOCATION:Close-Up Cinema\, 97 Sclater Street\, Shoreditch\, E1 6HR
URL:https://www.ticketsource.co.uk/close-up-cinema/e-bgeazl
STATUS:CONFIRMED
END:VEVENT
END:VCALENDAR