BEGIN:VCALENDAR
VERSION:2.0
PRODID:-//Pictures London//Cinema Listings//EN
CALSCALE:GREGORIAN
METHOD:PUBLISH
X-WR-CALNAME:Pictures London Cinema
BEGIN:VEVENT
UID:eaa97c39-bb38-4098-80d0-3e494bb0d366@pictures.london
DTSTART:20260421T113000Z
DTEND:20260421T133000Z
SUMMARY:Amélie (25th Anniversary Re-release) (2026) at Curzon Bloomsbury
DESCRIPTION:Amélie (25th Anniversary Re-release) (2026)\nat Curzon Bloomsbury\nEvent: anniversary\nBook: https://www.curzon.com/films/am-lie-25th-anniversary-re-release/HO00006891/\nvia Pictures (pictures.london)
LOCATION:Curzon Bloomsbury\, The Brunswick Centre\, Bloomsbury\, WC1H 8AG
URL:https://www.curzon.com/films/am-lie-25th-anniversary-re-release/HO00006891/
STATUS:CONFIRMED
END:VEVENT
END:VCALENDAR