BEGIN:VCALENDAR
VERSION:2.0
PRODID:-//Pictures London//Cinema Listings//EN
CALSCALE:GREGORIAN
METHOD:PUBLISH
X-WR-CALNAME:Pictures London Cinema
BEGIN:VEVENT
UID:ea6c693e-7312-4287-9c5a-21fd9d4aa0be@pictures.london
DTSTART:20260421T170000Z
DTEND:20260421T183900Z
SUMMARY:Glenrothan (2026) at West Norwood Picturehouse
DESCRIPTION:Glenrothan (2026)\nat West Norwood Picturehouse\nBook: https://www.picturehouses.com/movie-details/023/HO00017767/glenrothan\nvia Pictures (pictures.london)
LOCATION:West Norwood Picturehouse\, The Old Library\, 14-16 Knight's Hill\, West Norwood\, SE27 9NX
URL:https://www.picturehouses.com/movie-details/023/HO00017767/glenrothan
STATUS:CONFIRMED
END:VEVENT
END:VCALENDAR