BEGIN:VCALENDAR
VERSION:2.0
PRODID:-//Pictures London//Cinema Listings//EN
CALSCALE:GREGORIAN
METHOD:PUBLISH
X-WR-CALNAME:Pictures London Cinema
BEGIN:VEVENT
UID:e95b4c41-d6ff-4c3a-a63c-3469f2d5ba93@pictures.london
DTSTART:20260507T173000Z
DTEND:20260507T193000Z
SUMMARY:RIO FOREVER: LWL PRESENT A CELLULOID SURPRISE #1 at Rio Cinema
DESCRIPTION:RIO FOREVER: LWL PRESENT A CELLULOID SURPRISE #1\nat Rio Cinema\nBook: https://riocinema.org.uk/Rio.dll/WhatsOn?f=2383959\nvia Pictures (pictures.london)
LOCATION:Rio Cinema\, 107 Kingsland High Street\, Dalston\, E8 2PB
URL:https://riocinema.org.uk/Rio.dll/WhatsOn?f=2383959
STATUS:CONFIRMED
END:VEVENT
END:VCALENDAR