BEGIN:VCALENDAR
VERSION:2.0
PRODID:-//Pictures London//Cinema Listings//EN
CALSCALE:GREGORIAN
METHOD:PUBLISH
X-WR-CALNAME:Pictures London Cinema
BEGIN:VEVENT
UID:e93f42cc-e722-4e80-b344-0b1ff98cb432@pictures.london
DTSTART:20260422T182000Z
DTEND:20260422T201500Z
SUMMARY:Sirāt (2025) at Castle Cinema
DESCRIPTION:Sirāt (2025)\nat Castle Cinema\nBook: https://thecastlecinema.com/bookings/16426/\nvia Pictures (pictures.london)
LOCATION:Castle Cinema\, 64-66 Brooksby's Walk\, Hackney\, E9 6DA
URL:https://thecastlecinema.com/bookings/16426/
STATUS:CONFIRMED
END:VEVENT
END:VCALENDAR