BEGIN:VCALENDAR
VERSION:2.0
PRODID:-//Pictures London//Cinema Listings//EN
CALSCALE:GREGORIAN
METHOD:PUBLISH
X-WR-CALNAME:Pictures London Cinema
BEGIN:VEVENT
UID:e90d9264-476b-4b5d-9bc5-519b5dd525c9@pictures.london
DTSTART:20260425T220000Z
DTEND:20260426T000000Z
SUMMARY:Ego Death: An LSD Dream Emulator Rave at Rio Cinema
DESCRIPTION:Ego Death: An LSD Dream Emulator Rave\nat Rio Cinema\nBook: https://riocinema.org.uk/Rio.dll/WhatsOn?f=1982759\nvia Pictures (pictures.london)
LOCATION:Rio Cinema\, 107 Kingsland High Street\, Dalston\, E8 2PB
URL:https://riocinema.org.uk/Rio.dll/WhatsOn?f=1982759
STATUS:CONFIRMED
END:VEVENT
END:VCALENDAR