BEGIN:VCALENDAR
VERSION:2.0
PRODID:-//Pictures London//Cinema Listings//EN
CALSCALE:GREGORIAN
METHOD:PUBLISH
X-WR-CALNAME:Pictures London Cinema
BEGIN:VEVENT
UID:e8976875-9b3e-4840-8bc7-3562cf82389b@pictures.london
DTSTART:20260501T140000Z
DTEND:20260501T155900Z
SUMMARY:The Devil Wears Prada 2 (2026) at Electric Cinema Portobello
DESCRIPTION:The Devil Wears Prada 2 (2026)\nat Electric Cinema Portobello\nBook: https://www.electriccinema.co.uk/programme/\nvia Pictures (pictures.london)
LOCATION:Electric Cinema Portobello\, 191 Portobello Road\, Notting Hill\, W11 2ED
URL:https://www.electriccinema.co.uk/programme/
STATUS:CONFIRMED
END:VEVENT
END:VCALENDAR