BEGIN:VCALENDAR
VERSION:2.0
PRODID:-//Pictures London//Cinema Listings//EN
CALSCALE:GREGORIAN
METHOD:PUBLISH
X-WR-CALNAME:Pictures London Cinema
BEGIN:VEVENT
UID:e88e1a72-e25b-458a-8851-9d1b9e9ceae1@pictures.london
DTSTART:20260421T170000Z
DTEND:20260421T183700Z
SUMMARY:Bridget Jones's Diary (2001) at Curzon Victoria
DESCRIPTION:Bridget Jones's Diary (2001)\nat Curzon Victoria\nEvent: anniversary\nBook: https://www.curzon.com/films/bridget-jones-s-diary-25th-anniversary/HO00006971/\nvia Pictures (pictures.london)
LOCATION:Curzon Victoria\, 58 Victoria Street\, Victoria\, SW1E 5JA
URL:https://www.curzon.com/films/bridget-jones-s-diary-25th-anniversary/HO00006971/
STATUS:CONFIRMED
END:VEVENT
END:VCALENDAR