BEGIN:VCALENDAR
VERSION:2.0
PRODID:-//Pictures London//Cinema Listings//EN
CALSCALE:GREGORIAN
METHOD:PUBLISH
X-WR-CALNAME:Pictures London Cinema
BEGIN:VEVENT
UID:e88487b2-f741-436a-b7fa-93a0e7ccf6f3@pictures.london
DTSTART:20260501T121000Z
DTEND:20260501T140900Z
SUMMARY:The Devil Wears Prada 2 (2026) at Greenwich Picturehouse
DESCRIPTION:The Devil Wears Prada 2 (2026)\nat Greenwich Picturehouse\nBook: https://www.picturehouses.com/movie-details/021/HO00017738/the-devil-wears-prada-2\nvia Pictures (pictures.london)
LOCATION:Greenwich Picturehouse\, 180 Greenwich High Road\, Greenwich\, SE10 9HB
URL:https://www.picturehouses.com/movie-details/021/HO00017738/the-devil-wears-prada-2
STATUS:CONFIRMED
END:VEVENT
END:VCALENDAR