BEGIN:VCALENDAR
VERSION:2.0
PRODID:-//Pictures London//Cinema Listings//EN
CALSCALE:GREGORIAN
METHOD:PUBLISH
X-WR-CALNAME:Pictures London Cinema
BEGIN:VEVENT
UID:e82b37f7-f07d-4c6b-9f77-f4fc57874672@pictures.london
DTSTART:20260428T141500Z
DTEND:20260428T162200Z
SUMMARY:The Truth (1960) at Cine Lumiere
DESCRIPTION:The Truth (1960)\nat Cine Lumiere\nFormat: DCP_4K\nBook: https://cinelumiere.savoysystems.co.uk/CineLumiere.dll/TSelectItems.waSelectItemsPrompt.TcsWebMenuItem_600.TcsWebTab_601.TcsPerformance_6702428.TcsSection_1928774\nvia Pictures (pictures.london)
LOCATION:Cine Lumiere\, 17 Queensberry Place\, South Kensington\, SW7 2DT
URL:https://cinelumiere.savoysystems.co.uk/CineLumiere.dll/TSelectItems.waSelectItemsPrompt.TcsWebMenuItem_600.TcsWebTab_601.TcsPerformance_6702428.TcsSection_1928774
STATUS:CONFIRMED
END:VEVENT
END:VCALENDAR