BEGIN:VCALENDAR
VERSION:2.0
PRODID:-//Pictures London//Cinema Listings//EN
CALSCALE:GREGORIAN
METHOD:PUBLISH
X-WR-CALNAME:Pictures London Cinema
BEGIN:VEVENT
UID:e761c23d-15de-4065-a9c6-b1a6c2991b3e@pictures.london
DTSTART:20260615T133000Z
DTEND:20260615T153000Z
SUMMARY:Classic Matinee: JAWS (1975) at Rio Cinema
DESCRIPTION:Classic Matinee: JAWS (1975)\nat Rio Cinema\nBook: https://riocinema.org.uk/Rio.dll/WhatsOn?f=2266028\nvia Pictures (pictures.london)
LOCATION:Rio Cinema\, 107 Kingsland High Street\, Dalston\, E8 2PB
URL:https://riocinema.org.uk/Rio.dll/WhatsOn?f=2266028
STATUS:CONFIRMED
END:VEVENT
END:VCALENDAR