BEGIN:VCALENDAR
VERSION:2.0
PRODID:-//Pictures London//Cinema Listings//EN
CALSCALE:GREGORIAN
METHOD:PUBLISH
X-WR-CALNAME:Pictures London Cinema
BEGIN:VEVENT
UID:e74cc0cf-a5e3-4203-8445-d94edcdae360@pictures.london
DTSTART:20260421T200000Z
DTEND:20260421T213700Z
SUMMARY:Bridget Jones's Diary (2001) at Curzon Mayfair
DESCRIPTION:Bridget Jones's Diary (2001)\nat Curzon Mayfair\nEvent: anniversary\nBook: https://www.curzon.com/films/bridget-jones-s-diary-25th-anniversary/HO00006971/\nvia Pictures (pictures.london)
LOCATION:Curzon Mayfair\, 38 Curzon Street\, Mayfair\, W1J 7SH
URL:https://www.curzon.com/films/bridget-jones-s-diary-25th-anniversary/HO00006971/
STATUS:CONFIRMED
END:VEVENT
END:VCALENDAR