BEGIN:VCALENDAR
VERSION:2.0
PRODID:-//Pictures London//Cinema Listings//EN
CALSCALE:GREGORIAN
METHOD:PUBLISH
X-WR-CALNAME:Pictures London Cinema
BEGIN:VEVENT
UID:e73b5ab2-6a67-48cc-92f1-27a54e0775ac@pictures.london
DTSTART:20260423T104500Z
DTEND:20260423T132700Z
SUMMARY:One Battle After Another (2025) at Prince Charles Cinema
DESCRIPTION:One Battle After Another (2025)\nat Prince Charles Cinema\nFormat: 70MM\nBook: https://princecharlescinema.com/prince-charles-cinema/booknow/31625833\nvia Pictures (pictures.london)
LOCATION:Prince Charles Cinema\, 7 Leicester Place\, Leicester Square\, WC2H 7BY
URL:https://princecharlescinema.com/prince-charles-cinema/booknow/31625833
STATUS:CONFIRMED
END:VEVENT
END:VCALENDAR