BEGIN:VCALENDAR
VERSION:2.0
PRODID:-//Pictures London//Cinema Listings//EN
CALSCALE:GREGORIAN
METHOD:PUBLISH
X-WR-CALNAME:Pictures London Cinema
BEGIN:VEVENT
UID:e71c89b4-7615-4120-b79a-ec86aaba91b5@pictures.london
DTSTART:20260421T130000Z
DTEND:20260421T150000Z
SUMMARY:Amélie (25th Anniversary Re-release) (2026) at Everyman Barnet
DESCRIPTION:Amélie (25th Anniversary Re-release) (2026)\nat Everyman Barnet\nEvent: anniversary\nBook: https://purchase.everymancinema.com/launch/ticketing/d1b86be0-53ee-58bf-8cec-e1be6278bbcc\nvia Pictures (pictures.london)
LOCATION:Everyman Barnet\, Great North Road\, Barnet\, EN5 5SJ
URL:https://purchase.everymancinema.com/launch/ticketing/d1b86be0-53ee-58bf-8cec-e1be6278bbcc
STATUS:CONFIRMED
END:VEVENT
END:VCALENDAR