BEGIN:VCALENDAR
VERSION:2.0
PRODID:-//Pictures London//Cinema Listings//EN
CALSCALE:GREGORIAN
METHOD:PUBLISH
X-WR-CALNAME:Pictures London Cinema
BEGIN:VEVENT
UID:e6db78c4-326a-4082-a4a7-c93a869f25ce@pictures.london
DTSTART:20260422T114500Z
DTEND:20260422T135200Z
SUMMARY:Michael (2026) at Everyman Muswell Hill
DESCRIPTION:Michael (2026)\nat Everyman Muswell Hill\nBook: https://purchase.everymancinema.com/launch/ticketing/5d69c0ca-a9f4-54f4-8711-b2935f7ebad2\nvia Pictures (pictures.london)
LOCATION:Everyman Muswell Hill\, Fortis Green Road\, Muswell Hill\, N10 3TD
URL:https://purchase.everymancinema.com/launch/ticketing/5d69c0ca-a9f4-54f4-8711-b2935f7ebad2
STATUS:CONFIRMED
END:VEVENT
END:VCALENDAR