BEGIN:VCALENDAR
VERSION:2.0
PRODID:-//Pictures London//Cinema Listings//EN
CALSCALE:GREGORIAN
METHOD:PUBLISH
X-WR-CALNAME:Pictures London Cinema
BEGIN:VEVENT
UID:e6a9d16f-6a95-4e49-9aff-1bbe5ce4174e@pictures.london
DTSTART:20260421T174000Z
DTEND:20260421T191600Z
SUMMARY:Rebuilding (2025) at Curzon Hoxton
DESCRIPTION:Rebuilding (2025)\nat Curzon Hoxton\nBook: https://www.curzon.com/films/rebuilding/HO00006901/\nvia Pictures (pictures.london)
LOCATION:Curzon Hoxton\, 58 Pitfield Street\, Hoxton\, N1 6NU
URL:https://www.curzon.com/films/rebuilding/HO00006901/
STATUS:CONFIRMED
END:VEVENT
END:VCALENDAR