BEGIN:VCALENDAR
VERSION:2.0
PRODID:-//Pictures London//Cinema Listings//EN
CALSCALE:GREGORIAN
METHOD:PUBLISH
X-WR-CALNAME:Pictures London Cinema
BEGIN:VEVENT
UID:e6a89eb0-d6bb-4ff8-89a8-dd8f1025ce1e@pictures.london
DTSTART:20260421T173000Z
DTEND:20260421T190900Z
SUMMARY:Glenrothan (2026) at Greenwich Picturehouse
DESCRIPTION:Glenrothan (2026)\nat Greenwich Picturehouse\nBook: https://www.picturehouses.com/movie-details/021/HO00017767/glenrothan\nvia Pictures (pictures.london)
LOCATION:Greenwich Picturehouse\, 180 Greenwich High Road\, Greenwich\, SE10 9HB
URL:https://www.picturehouses.com/movie-details/021/HO00017767/glenrothan
STATUS:CONFIRMED
END:VEVENT
END:VCALENDAR