BEGIN:VCALENDAR
VERSION:2.0
PRODID:-//Pictures London//Cinema Listings//EN
CALSCALE:GREGORIAN
METHOD:PUBLISH
X-WR-CALNAME:Pictures London Cinema
BEGIN:VEVENT
UID:e695ecf0-9012-45fd-a716-896fda2ad0bd@pictures.london
DTSTART:20260507T173000Z
DTEND:20260507T193000Z
SUMMARY:A Celluloid Surprise #1 at Rio Cinema
DESCRIPTION:A Celluloid Surprise #1\nat Rio Cinema\nBook: https://riocinema.org.uk/Rio.dll/WhatsOn?f=2383959\nvia Pictures (pictures.london)
LOCATION:Rio Cinema\, 107 Kingsland High Street\, Dalston\, E8 2PB
URL:https://riocinema.org.uk/Rio.dll/WhatsOn?f=2383959
STATUS:CONFIRMED
END:VEVENT
END:VCALENDAR