BEGIN:VCALENDAR
VERSION:2.0
PRODID:-//Pictures London//Cinema Listings//EN
CALSCALE:GREGORIAN
METHOD:PUBLISH
X-WR-CALNAME:Pictures London Cinema
BEGIN:VEVENT
UID:e6955d9c-0a5d-49f5-ad9b-868322197a21@pictures.london
DTSTART:20260421T130000Z
DTEND:20260421T143300Z
SUMMARY:My Father's Diaries (2024) at Curzon Bloomsbury
DESCRIPTION:My Father's Diaries (2024)\nat Curzon Bloomsbury\nBook: https://www.curzon.com/films/dochouse-my-father-s-diaries/HO00006922/\nvia Pictures (pictures.london)
LOCATION:Curzon Bloomsbury\, The Brunswick Centre\, Bloomsbury\, WC1H 8AG
URL:https://www.curzon.com/films/dochouse-my-father-s-diaries/HO00006922/
STATUS:CONFIRMED
END:VEVENT
END:VCALENDAR