BEGIN:VCALENDAR
VERSION:2.0
PRODID:-//Pictures London//Cinema Listings//EN
CALSCALE:GREGORIAN
METHOD:PUBLISH
X-WR-CALNAME:Pictures London Cinema
BEGIN:VEVENT
UID:e662ff8b-df8b-4e5f-8a48-84b3a25f1c9a@pictures.london
DTSTART:20260508T180000Z
DTEND:20260508T212200Z
SUMMARY:RIO FOREVER x ASIF KAPADIA: THE GODFATHER: PART II (35MM) (1974) at Rio Cinema
DESCRIPTION:RIO FOREVER x ASIF KAPADIA: THE GODFATHER: PART II (35MM) (1974)\nat Rio Cinema\nFormat: 35MM\nBook: https://riocinema.org.uk/Rio.dll/WhatsOn?f=2383976\nvia Pictures (pictures.london)
LOCATION:Rio Cinema\, 107 Kingsland High Street\, Dalston\, E8 2PB
URL:https://riocinema.org.uk/Rio.dll/WhatsOn?f=2383976
STATUS:CONFIRMED
END:VEVENT
END:VCALENDAR