BEGIN:VCALENDAR
VERSION:2.0
PRODID:-//Pictures London//Cinema Listings//EN
CALSCALE:GREGORIAN
METHOD:PUBLISH
X-WR-CALNAME:Pictures London Cinema
BEGIN:VEVENT
UID:e60f322f-8328-4d96-8a81-8381accc8730@pictures.london
DTSTART:20260422T133000Z
DTEND:20260422T152300Z
SUMMARY:Made in Dagenham (2010) at David Lean Cinema
DESCRIPTION:Made in Dagenham (2010)\nat David Lean Cinema\nBook: https://tinyurl.com/cnk3d5n9\nvia Pictures (pictures.london)
LOCATION:David Lean Cinema\, The Clocktower\, Croydon Airport\, Croydon\, CR0 0XZ
URL:https://tinyurl.com/cnk3d5n9
STATUS:CONFIRMED
END:VEVENT
END:VCALENDAR