BEGIN:VCALENDAR
VERSION:2.0
PRODID:-//Pictures London//Cinema Listings//EN
CALSCALE:GREGORIAN
METHOD:PUBLISH
X-WR-CALNAME:Pictures London Cinema
BEGIN:VEVENT
UID:e5e0a423-0788-42f2-b993-f67549b56587@pictures.london
DTSTART:20260421T171500Z
DTEND:20260421T185100Z
SUMMARY:Rebuilding (2025) at Garden Cinema
DESCRIPTION:Rebuilding (2025)\nat Garden Cinema\nBook: https://bookings.thegardencinema.co.uk/TheGardenCinema.dll/TSelectItems.waSelectItemsPrompt.TcsWebMenuItem_0.TcsWebTab_0.TcsPerformance_5248576.TcsSection_971\nvia Pictures (pictures.london)
LOCATION:Garden Cinema\, 39-41 Parker Street\, Covent Garden\, WC2B 5PQ
URL:https://bookings.thegardencinema.co.uk/TheGardenCinema.dll/TSelectItems.waSelectItemsPrompt.TcsWebMenuItem_0.TcsWebTab_0.TcsPerformance_5248576.TcsSection_971
STATUS:CONFIRMED
END:VEVENT
END:VCALENDAR