BEGIN:VCALENDAR
VERSION:2.0
PRODID:-//Pictures London//Cinema Listings//EN
CALSCALE:GREGORIAN
METHOD:PUBLISH
X-WR-CALNAME:Pictures London Cinema
BEGIN:VEVENT
UID:e5b1a431-8af9-4dee-82fc-97c5f089f3c9@pictures.london
DTSTART:20260422T103000Z
DTEND:20260422T123700Z
SUMMARY:Michael (2026) at Everyman Baker Street
DESCRIPTION:Michael (2026)\nat Everyman Baker Street\nBook: https://purchase.everymancinema.com/launch/ticketing/b4673087-0895-5e70-9c9f-da4a5b806f46\nvia Pictures (pictures.london)
LOCATION:Everyman Baker Street\, 96-98 Baker Street\, Marylebone\, W1U 6AG
URL:https://purchase.everymancinema.com/launch/ticketing/b4673087-0895-5e70-9c9f-da4a5b806f46
STATUS:CONFIRMED
END:VEVENT
END:VCALENDAR