BEGIN:VCALENDAR
VERSION:2.0
PRODID:-//Pictures London//Cinema Listings//EN
CALSCALE:GREGORIAN
METHOD:PUBLISH
X-WR-CALNAME:Pictures London Cinema
BEGIN:VEVENT
UID:e4a5536f-fe20-4783-9b7e-3e9f8884f9d9@pictures.london
DTSTART:20260422T173000Z
DTEND:20260422T193700Z
SUMMARY:Michael (2026) at Picturehouse Central
DESCRIPTION:Michael (2026)\nat Picturehouse Central\nBook: https://www.picturehouses.com/movie-details/022/HO00017772/michael\nvia Pictures (pictures.london)
LOCATION:Picturehouse Central\, Corner of Great Windmill Street & Shaftesbury Avenue\, West End\, W1D 7DH
URL:https://www.picturehouses.com/movie-details/022/HO00017772/michael
STATUS:CONFIRMED
END:VEVENT
END:VCALENDAR