BEGIN:VCALENDAR
VERSION:2.0
PRODID:-//Pictures London//Cinema Listings//EN
CALSCALE:GREGORIAN
METHOD:PUBLISH
X-WR-CALNAME:Pictures London Cinema
BEGIN:VEVENT
UID:e3cafcec-0ce5-4f8d-9489-ffb95c11ff2f@pictures.london
DTSTART:20260421T173000Z
DTEND:20260421T185600Z
SUMMARY:The Blue Trail (2025) at Picturehouse Central
DESCRIPTION:The Blue Trail (2025)\nat Picturehouse Central\nBook: https://www.picturehouses.com/movie-details/022/HO00017906/the-blue-trail\nvia Pictures (pictures.london)
LOCATION:Picturehouse Central\, Corner of Great Windmill Street & Shaftesbury Avenue\, West End\, W1D 7DH
URL:https://www.picturehouses.com/movie-details/022/HO00017906/the-blue-trail
STATUS:CONFIRMED
END:VEVENT
END:VCALENDAR