BEGIN:VCALENDAR
VERSION:2.0
PRODID:-//Pictures London//Cinema Listings//EN
CALSCALE:GREGORIAN
METHOD:PUBLISH
X-WR-CALNAME:Pictures London Cinema
BEGIN:VEVENT
UID:e3bd2873-77c2-4d4b-b3ee-4a3fd7d5a5f9@pictures.london
DTSTART:20260423T111500Z
DTEND:20260423T134000Z
SUMMARY:Minority Report (2002) at Prince Charles Cinema
DESCRIPTION:Minority Report (2002)\nat Prince Charles Cinema\nFormat: 35MM\nBook: https://princecharlescinema.com/prince-charles-cinema/booknow/31625578\nvia Pictures (pictures.london)
LOCATION:Prince Charles Cinema\, 7 Leicester Place\, Leicester Square\, WC2H 7BY
URL:https://princecharlescinema.com/prince-charles-cinema/booknow/31625578
STATUS:CONFIRMED
END:VEVENT
END:VCALENDAR