BEGIN:VCALENDAR
VERSION:2.0
PRODID:-//Pictures London//Cinema Listings//EN
CALSCALE:GREGORIAN
METHOD:PUBLISH
X-WR-CALNAME:Pictures London Cinema
BEGIN:VEVENT
UID:e2e7cee8-0066-4c2c-940c-83553735efb8@pictures.london
DTSTART:20260421T160000Z
DTEND:20260421T173600Z
SUMMARY:Rebuilding (2025) at Clapham Picturehouse
DESCRIPTION:Rebuilding (2025)\nat Clapham Picturehouse\nBook: https://www.picturehouses.com/movie-details/020/HO00017446/rebuilding\nvia Pictures (pictures.london)
LOCATION:Clapham Picturehouse\, 76 Venn Street\, Clapham\, SW4 7UL
URL:https://www.picturehouses.com/movie-details/020/HO00017446/rebuilding
STATUS:CONFIRMED
END:VEVENT
END:VCALENDAR