BEGIN:VCALENDAR
VERSION:2.0
PRODID:-//Pictures London//Cinema Listings//EN
CALSCALE:GREGORIAN
METHOD:PUBLISH
X-WR-CALNAME:Pictures London Cinema
BEGIN:VEVENT
UID:e2d47262-6ed1-4722-a429-9b17f721c719@pictures.london
DTSTART:20260426T144500Z
DTEND:20260426T174300Z
SUMMARY:Rocco and His Brothers (1960) at BFI Southbank
DESCRIPTION:Rocco and His Brothers (1960)\nat BFI Southbank\nBook: https://whatson.bfi.org.uk/Online/default.asp?doWork::WScontent::loadArticle=Load&BOparam::WScontent::loadArticle::article_id=A6A2A57C-9591-4999-AB90-EA225C296A56&BOparam::WScontent::loadArticle::context_id=0862D800-9D0B-457A-972E-75F9DE4FCCCC\nvia Pictures (pictures.london)
LOCATION:BFI Southbank\, Belvedere Road\, South Bank\, SE1 8XT
URL:https://whatson.bfi.org.uk/Online/default.asp?doWork::WScontent::loadArticle=Load&BOparam::WScontent::loadArticle::article_id=A6A2A57C-9591-4999-AB90-EA225C296A56&BOparam::WScontent::loadArticle::context_id=0862D800-9D0B-457A-972E-75F9DE4FCCCC
STATUS:CONFIRMED
END:VEVENT
END:VCALENDAR