BEGIN:VCALENDAR
VERSION:2.0
PRODID:-//Pictures London//Cinema Listings//EN
CALSCALE:GREGORIAN
METHOD:PUBLISH
X-WR-CALNAME:Pictures London Cinema
BEGIN:VEVENT
UID:e1eef2df-6216-473d-8ef2-b006a92068ea@pictures.london
DTSTART:20260422T135000Z
DTEND:20260422T155700Z
SUMMARY:Michael (2026) at Curzon Kingston
DESCRIPTION:Michael (2026)\nat Curzon Kingston\nBook: https://www.curzon.com/films/michael/HO00006898/\nvia Pictures (pictures.london)
LOCATION:Curzon Kingston\, Richmond Road\, Kingston\, KT2 5BW
URL:https://www.curzon.com/films/michael/HO00006898/
STATUS:CONFIRMED
END:VEVENT
END:VCALENDAR