BEGIN:VCALENDAR
VERSION:2.0
PRODID:-//Pictures London//Cinema Listings//EN
CALSCALE:GREGORIAN
METHOD:PUBLISH
X-WR-CALNAME:Pictures London Cinema
BEGIN:VEVENT
UID:e100ba30-c50e-49e8-b10f-caa09c30fe58@pictures.london
DTSTART:20260425T183500Z
DTEND:20260425T202700Z
SUMMARY:Night Moves (2014) at Prince Charles Cinema
DESCRIPTION:Night Moves (2014)\nat Prince Charles Cinema\nFormat: 35MM\nBook: https://princecharlescinema.com/prince-charles-cinema/booknow/31625615\nvia Pictures (pictures.london)
LOCATION:Prince Charles Cinema\, 7 Leicester Place\, Leicester Square\, WC2H 7BY
URL:https://princecharlescinema.com/prince-charles-cinema/booknow/31625615
STATUS:CONFIRMED
END:VEVENT
END:VCALENDAR