BEGIN:VCALENDAR
VERSION:2.0
PRODID:-//Pictures London//Cinema Listings//EN
CALSCALE:GREGORIAN
METHOD:PUBLISH
X-WR-CALNAME:Pictures London Cinema
BEGIN:VEVENT
UID:e053387d-363b-436f-81dc-ac3332c36751@pictures.london
DTSTART:20260425T193000Z
DTEND:20260425T210500Z
SUMMARY:Police Story 3: Super Cop (1992) at Riverside Studios
DESCRIPTION:Police Story 3: Super Cop (1992)\nat Riverside Studios\nFormat: DCP_4K\nBook: https://riversidestudios.co.uk/seats/138801/\nvia Pictures (pictures.london)
LOCATION:Riverside Studios\, 101 Queen Caroline Street\, Hammersmith\, W6 9BN
URL:https://riversidestudios.co.uk/seats/138801/
STATUS:CONFIRMED
END:VEVENT
END:VCALENDAR