BEGIN:VCALENDAR
VERSION:2.0
PRODID:-//Pictures London//Cinema Listings//EN
CALSCALE:GREGORIAN
METHOD:PUBLISH
X-WR-CALNAME:Pictures London Cinema
BEGIN:VEVENT
UID:e035288d-c5da-4eab-8eaf-e9207dda7295@pictures.london
DTSTART:20260421T200000Z
DTEND:20260421T220400Z
SUMMARY:Akira (1988) at Everyman Chelsea
DESCRIPTION:Akira (1988)\nat Everyman Chelsea\nFormat: DCP_4K\nBook: https://purchase.everymancinema.com/launch/ticketing/480bac2f-cded-597d-9428-120cd210239e\nvia Pictures (pictures.london)
LOCATION:Everyman Chelsea\, 279 King's Road\, Chelsea\, SW3 3TD
URL:https://purchase.everymancinema.com/launch/ticketing/480bac2f-cded-597d-9428-120cd210239e
STATUS:CONFIRMED
END:VEVENT
END:VCALENDAR