BEGIN:VCALENDAR
VERSION:2.0
PRODID:-//Pictures London//Cinema Listings//EN
CALSCALE:GREGORIAN
METHOD:PUBLISH
X-WR-CALNAME:Pictures London Cinema
BEGIN:VEVENT
UID:e004a960-5e30-4fae-9b5a-01a1592b3e6d@pictures.london
DTSTART:20260501T170000Z
DTEND:20260501T185900Z
SUMMARY:The Devil Wears Prada 2 (2026) at Curzon Hoxton
DESCRIPTION:The Devil Wears Prada 2 (2026)\nat Curzon Hoxton\nBook: https://www.curzon.com/films/the-devil-wears-prada-2/HO00006909/\nvia Pictures (pictures.london)
LOCATION:Curzon Hoxton\, 58 Pitfield Street\, Hoxton\, N1 6NU
URL:https://www.curzon.com/films/the-devil-wears-prada-2/HO00006909/
STATUS:CONFIRMED
END:VEVENT
END:VCALENDAR