BEGIN:VCALENDAR
VERSION:2.0
PRODID:-//Pictures London//Cinema Listings//EN
CALSCALE:GREGORIAN
METHOD:PUBLISH
X-WR-CALNAME:Pictures London Cinema
BEGIN:VEVENT
UID:e003ecdf-5bf6-4e49-a7d1-5eeeaed90b3c@pictures.london
DTSTART:20260425T111000Z
DTEND:20260425T113600Z
SUMMARY:The Snail and the Whale (2020) at Hackney Picturehouse
DESCRIPTION:The Snail and the Whale (2020)\nat Hackney Picturehouse\nBook: https://www.picturehouses.com/movie-details/010/HO00010440/the-snail-and-the-whale\nvia Pictures (pictures.london)
LOCATION:Hackney Picturehouse\, 270 Mare Street\, Hackney\, E8 1EJ
URL:https://www.picturehouses.com/movie-details/010/HO00010440/the-snail-and-the-whale
STATUS:CONFIRMED
END:VEVENT
END:VCALENDAR