BEGIN:VCALENDAR
VERSION:2.0
PRODID:-//Pictures London//Cinema Listings//EN
CALSCALE:GREGORIAN
METHOD:PUBLISH
X-WR-CALNAME:Pictures London Cinema
BEGIN:VEVENT
UID:df9e4937-8bb2-4c46-be30-8ad0eade9a03@pictures.london
DTSTART:20260422T180000Z
DTEND:20260422T200300Z
SUMMARY:Bad Timing (1980) at BFI Southbank
DESCRIPTION:Bad Timing (1980)\nat BFI Southbank\nEvent: intro\nBook: https://whatson.bfi.org.uk/Online/default.asp?doWork::WScontent::loadArticle=Load&BOparam::WScontent::loadArticle::article_id=25350E3A-8BB4-4929-86EC-BCE8946061E8&BOparam::WScontent::loadArticle::context_id=61CFF4FF-8401-44A9-9E05-205887FF0E9E\nvia Pictures (pictures.london)
LOCATION:BFI Southbank\, Belvedere Road\, South Bank\, SE1 8XT
URL:https://whatson.bfi.org.uk/Online/default.asp?doWork::WScontent::loadArticle=Load&BOparam::WScontent::loadArticle::article_id=25350E3A-8BB4-4929-86EC-BCE8946061E8&BOparam::WScontent::loadArticle::context_id=61CFF4FF-8401-44A9-9E05-205887FF0E9E
STATUS:CONFIRMED
END:VEVENT
END:VCALENDAR