BEGIN:VCALENDAR
VERSION:2.0
PRODID:-//Pictures London//Cinema Listings//EN
CALSCALE:GREGORIAN
METHOD:PUBLISH
X-WR-CALNAME:Pictures London Cinema
BEGIN:VEVENT
UID:df918d96-82f2-47de-bbc4-1f410311461c@pictures.london
DTSTART:20260421T201500Z
DTEND:20260421T222300Z
SUMMARY:Kiss of the Spider Woman (2025) at Ealing Picturehouse
DESCRIPTION:Kiss of the Spider Woman (2025)\nat Ealing Picturehouse\nBook: https://www.picturehouses.com/movie-details/031/HO00017874/kiss-of-the-spider-woman\nvia Pictures (pictures.london)
LOCATION:Ealing Picturehouse\, The Ealing Cinema\, Ealing Green\, Ealing\, W5 2PA
URL:https://www.picturehouses.com/movie-details/031/HO00017874/kiss-of-the-spider-woman
STATUS:CONFIRMED
END:VEVENT
END:VCALENDAR