BEGIN:VCALENDAR
VERSION:2.0
PRODID:-//Pictures London//Cinema Listings//EN
CALSCALE:GREGORIAN
METHOD:PUBLISH
X-WR-CALNAME:Pictures London Cinema
BEGIN:VEVENT
UID:df8fea1c-94ee-4ff2-b479-fec4f7dc1390@pictures.london
DTSTART:20260421T190000Z
DTEND:20260421T203900Z
SUMMARY:Glenrothan (2026) at Everyman Barnet
DESCRIPTION:Glenrothan (2026)\nat Everyman Barnet\nBook: https://purchase.everymancinema.com/launch/ticketing/41acbab9-6988-52dc-9f7a-0ffa240357f7\nvia Pictures (pictures.london)
LOCATION:Everyman Barnet\, Great North Road\, Barnet\, EN5 5SJ
URL:https://purchase.everymancinema.com/launch/ticketing/41acbab9-6988-52dc-9f7a-0ffa240357f7
STATUS:CONFIRMED
END:VEVENT
END:VCALENDAR