BEGIN:VCALENDAR
VERSION:2.0
PRODID:-//Pictures London//Cinema Listings//EN
CALSCALE:GREGORIAN
METHOD:PUBLISH
X-WR-CALNAME:Pictures London Cinema
BEGIN:VEVENT
UID:df691122-a68e-4756-9cb4-30fe330cd555@pictures.london
DTSTART:20260422T130000Z
DTEND:20260422T152000Z
SUMMARY:All My Sons (2019) at West Norwood Picturehouse
DESCRIPTION:All My Sons (2019)\nat West Norwood Picturehouse\nBook: https://www.picturehouses.com/movie-details/023/HO00017466/national-theatre-live-all-my-sons-2026\nvia Pictures (pictures.london)
LOCATION:West Norwood Picturehouse\, The Old Library\, 14-16 Knight's Hill\, West Norwood\, SE27 9NX
URL:https://www.picturehouses.com/movie-details/023/HO00017466/national-theatre-live-all-my-sons-2026
STATUS:CONFIRMED
END:VEVENT
END:VCALENDAR