BEGIN:VCALENDAR
VERSION:2.0
PRODID:-//Pictures London//Cinema Listings//EN
CALSCALE:GREGORIAN
METHOD:PUBLISH
X-WR-CALNAME:Pictures London Cinema
BEGIN:VEVENT
UID:df507f18-bb5d-42e3-98bb-0c41b754c1dd@pictures.london
DTSTART:20260421T194000Z
DTEND:20260421T215400Z
SUMMARY:Lee Cronin's The Mummy (2026) at Curzon Aldgate
DESCRIPTION:Lee Cronin's The Mummy (2026)\nat Curzon Aldgate\nBook: https://www.curzon.com/films/lee-cronin-s-the-mummy/HO00006897/\nvia Pictures (pictures.london)
LOCATION:Curzon Aldgate\, 2 Whitechapel High Street\, Aldgate\, E1 8FA
URL:https://www.curzon.com/films/lee-cronin-s-the-mummy/HO00006897/
STATUS:CONFIRMED
END:VEVENT
END:VCALENDAR