BEGIN:VCALENDAR
VERSION:2.0
PRODID:-//Pictures London//Cinema Listings//EN
CALSCALE:GREGORIAN
METHOD:PUBLISH
X-WR-CALNAME:Pictures London Cinema
BEGIN:VEVENT
UID:df38339e-5b65-4aeb-9cd4-f68a3a51fd8c@pictures.london
DTSTART:20260421T192000Z
DTEND:20260421T213500Z
SUMMARY:Diamonds (2024) at Cine Lumiere
DESCRIPTION:Diamonds (2024)\nat Cine Lumiere\nBook: https://cinelumiere.savoysystems.co.uk/CineLumiere.dll/TSelectItems.waSelectItemsPrompt.TcsWebMenuItem_600.TcsWebTab_601.TcsPerformance_6699149.TcsSection_3841519\nvia Pictures (pictures.london)
LOCATION:Cine Lumiere\, 17 Queensberry Place\, South Kensington\, SW7 2DT
URL:https://cinelumiere.savoysystems.co.uk/CineLumiere.dll/TSelectItems.waSelectItemsPrompt.TcsWebMenuItem_600.TcsWebTab_601.TcsPerformance_6699149.TcsSection_3841519
STATUS:CONFIRMED
END:VEVENT
END:VCALENDAR