BEGIN:VCALENDAR
VERSION:2.0
PRODID:-//Pictures London//Cinema Listings//EN
CALSCALE:GREGORIAN
METHOD:PUBLISH
X-WR-CALNAME:Pictures London Cinema
BEGIN:VEVENT
UID:df2976e3-fabd-4e88-aee1-50af51409463@pictures.london
DTSTART:20260421T193000Z
DTEND:20260421T221000Z
SUMMARY:Eyes Wide Shut (1999) at Prince Charles Cinema
DESCRIPTION:Eyes Wide Shut (1999)\nat Prince Charles Cinema\nFormat: 35MM\nBook: https://princecharlescinema.com/prince-charles-cinema/booknow/31625568\nvia Pictures (pictures.london)
LOCATION:Prince Charles Cinema\, 7 Leicester Place\, Leicester Square\, WC2H 7BY
URL:https://princecharlescinema.com/prince-charles-cinema/booknow/31625568
STATUS:CONFIRMED
END:VEVENT
END:VCALENDAR