BEGIN:VCALENDAR
VERSION:2.0
PRODID:-//Pictures London//Cinema Listings//EN
CALSCALE:GREGORIAN
METHOD:PUBLISH
X-WR-CALNAME:Pictures London Cinema
BEGIN:VEVENT
UID:de5f49d9-9858-43fe-9c54-bd5c0109d9d6@pictures.london
DTSTART:20260422T174500Z
DTEND:20260422T195200Z
SUMMARY:Michael (2026) at Clapham Picturehouse
DESCRIPTION:Michael (2026)\nat Clapham Picturehouse\nBook: https://www.picturehouses.com/movie-details/020/HO00017772/michael\nvia Pictures (pictures.london)
LOCATION:Clapham Picturehouse\, 76 Venn Street\, Clapham\, SW4 7UL
URL:https://www.picturehouses.com/movie-details/020/HO00017772/michael
STATUS:CONFIRMED
END:VEVENT
END:VCALENDAR