BEGIN:VCALENDAR
VERSION:2.0
PRODID:-//Pictures London//Cinema Listings//EN
CALSCALE:GREGORIAN
METHOD:PUBLISH
X-WR-CALNAME:Pictures London Cinema
BEGIN:VEVENT
UID:de32c2b0-a251-4f86-8ba5-7d45de804aeb@pictures.london
DTSTART:20260421T203000Z
DTEND:20260421T221500Z
SUMMARY:The Drama (2026) at Everyman Barnet
DESCRIPTION:The Drama (2026)\nat Everyman Barnet\nBook: https://purchase.everymancinema.com/launch/ticketing/732bb144-3931-5e1f-866a-efc52252b7e9\nvia Pictures (pictures.london)
LOCATION:Everyman Barnet\, Great North Road\, Barnet\, EN5 5SJ
URL:https://purchase.everymancinema.com/launch/ticketing/732bb144-3931-5e1f-866a-efc52252b7e9
STATUS:CONFIRMED
END:VEVENT
END:VCALENDAR